BEGIN:VCALENDAR
VERSION:2.0
PRODID:-//Amber Waves Diving Co. - ECPv6.0.3.1//NONSGML v1.0//EN
CALSCALE:GREGORIAN
METHOD:PUBLISH
X-WR-CALNAME:Amber Waves Diving Co.
X-ORIGINAL-URL:https://amberwavesdiving.com
X-WR-CALDESC:Events for Amber Waves Diving Co.
REFRESH-INTERVAL;VALUE=DURATION:PT1H
X-Robots-Tag:noindex
X-PUBLISHED-TTL:PT1H
BEGIN:VTIMEZONE
TZID:America/Chicago
BEGIN:DAYLIGHT
TZOFFSETFROM:-0600
TZOFFSETTO:-0500
TZNAME:CDT
DTSTART:20240310T080000
END:DAYLIGHT
BEGIN:STANDARD
TZOFFSETFROM:-0500
TZOFFSETTO:-0600
TZNAME:CST
DTSTART:20241103T070000
END:STANDARD
END:VTIMEZONE
BEGIN:VEVENT
DTSTART;TZID=America/Chicago:20240423T090000
DTEND;TZID=America/Chicago:20240423T190000
DTSTAMP:20260425T225945
CREATED:20231228T195405Z
LAST-MODIFIED:20231228T204612Z
UID:10000849-1713862800-1713898800@amberwavesdiving.com
SUMMARY:Tue/Thu Swimming Lessons - Call (316) 775-6688 to schedule
DESCRIPTION:Our swimming lesson times are flexible with your schedule. Call us to book a class that fits your availability!
URL:https://amberwavesdiving.com/calendar/swimming-lessons-call-316-775-6688-to-schedule/2024-04-23/
CATEGORIES:Swimming
ATTACH;FMTTYPE=image/jpeg:https://amberwavesdiving.com/wpcms/wp-content/uploads/2022/04/SwimmingLessonsBoy_209199120.jpg
END:VEVENT
BEGIN:VEVENT
DTSTART;TZID=America/Chicago:20240424T090000
DTEND;TZID=America/Chicago:20240424T183000
DTSTAMP:20260425T225945
CREATED:20231228T195029Z
LAST-MODIFIED:20231228T204603Z
UID:10000638-1713949200-1713983400@amberwavesdiving.com
SUMMARY:Mon/Wed Swimming Lessons - Call (316) 775-6688 to schedule
DESCRIPTION:Our swimming lesson times are flexible with your schedule. Call us to book a class that fits your availability!
URL:https://amberwavesdiving.com/calendar/swimming-lessons/2024-04-24/
CATEGORIES:Swimming
ATTACH;FMTTYPE=image/jpeg:https://amberwavesdiving.com/wpcms/wp-content/uploads/2022/04/SwimmingLessonsBoy_209199120.jpg
END:VEVENT
BEGIN:VEVENT
DTSTART;TZID=America/Chicago:20240425T090000
DTEND;TZID=America/Chicago:20240425T190000
DTSTAMP:20260425T225945
CREATED:20231228T195405Z
LAST-MODIFIED:20231228T204612Z
UID:10000850-1714035600-1714071600@amberwavesdiving.com
SUMMARY:Tue/Thu Swimming Lessons - Call (316) 775-6688 to schedule
DESCRIPTION:Our swimming lesson times are flexible with your schedule. Call us to book a class that fits your availability!
URL:https://amberwavesdiving.com/calendar/swimming-lessons-call-316-775-6688-to-schedule/2024-04-25/
CATEGORIES:Swimming
ATTACH;FMTTYPE=image/jpeg:https://amberwavesdiving.com/wpcms/wp-content/uploads/2022/04/SwimmingLessonsBoy_209199120.jpg
END:VEVENT
BEGIN:VEVENT
DTSTART;TZID=America/Chicago:20240427T120000
DTEND;TZID=America/Chicago:20240427T150000
DTSTAMP:20260425T225945
CREATED:20231228T161102Z
LAST-MODIFIED:20241203T164714Z
UID:10000487-1714219200-1714230000@amberwavesdiving.com
SUMMARY:Discover Scuba - Scuba Reviews - or Fun Dive
DESCRIPTION:
URL:https://amberwavesdiving.com/calendar/discover-scuba-scuba-reviews-or-fun-dive/2024-04-27/
CATEGORIES:Discover Scuba,Scuba Classes,Swimming
ATTACH;FMTTYPE=image/jpeg:https://amberwavesdiving.com/wpcms/wp-content/uploads/2022/03/273182060_3065833863679261_8560517756132100201_n.jpg
END:VEVENT
BEGIN:VEVENT
DTSTART;TZID=America/Chicago:20240428T140000
DTEND;TZID=America/Chicago:20240428T160000
DTSTAMP:20260425T225945
CREATED:20231228T155034Z
LAST-MODIFIED:20241203T165217Z
UID:10000413-1714312800-1714320000@amberwavesdiving.com
SUMMARY:Open Pool Dive
DESCRIPTION:
URL:https://amberwavesdiving.com/calendar/open-pool-dive/2024-04-28/
CATEGORIES:Swimming
ATTACH;FMTTYPE=image/jpeg:https://amberwavesdiving.com/wpcms/wp-content/uploads/2022/04/SwimmingKids_34026385.jpg
END:VEVENT
BEGIN:VEVENT
DTSTART;TZID=America/Chicago:20240429T090000
DTEND;TZID=America/Chicago:20240429T183000
DTSTAMP:20260425T225945
CREATED:20231228T195029Z
LAST-MODIFIED:20231228T204603Z
UID:10000639-1714381200-1714415400@amberwavesdiving.com
SUMMARY:Mon/Wed Swimming Lessons - Call (316) 775-6688 to schedule
DESCRIPTION:Our swimming lesson times are flexible with your schedule. Call us to book a class that fits your availability!
URL:https://amberwavesdiving.com/calendar/swimming-lessons/2024-04-29/
CATEGORIES:Swimming
ATTACH;FMTTYPE=image/jpeg:https://amberwavesdiving.com/wpcms/wp-content/uploads/2022/04/SwimmingLessonsBoy_209199120.jpg
END:VEVENT
BEGIN:VEVENT
DTSTART;TZID=America/Chicago:20240430T090000
DTEND;TZID=America/Chicago:20240430T190000
DTSTAMP:20260425T225945
CREATED:20231228T195405Z
LAST-MODIFIED:20231228T204612Z
UID:10000851-1714467600-1714503600@amberwavesdiving.com
SUMMARY:Tue/Thu Swimming Lessons - Call (316) 775-6688 to schedule
DESCRIPTION:Our swimming lesson times are flexible with your schedule. Call us to book a class that fits your availability!
URL:https://amberwavesdiving.com/calendar/swimming-lessons-call-316-775-6688-to-schedule/2024-04-30/
CATEGORIES:Swimming
ATTACH;FMTTYPE=image/jpeg:https://amberwavesdiving.com/wpcms/wp-content/uploads/2022/04/SwimmingLessonsBoy_209199120.jpg
END:VEVENT
BEGIN:VEVENT
DTSTART;TZID=America/Chicago:20240501T090000
DTEND;TZID=America/Chicago:20240501T183000
DTSTAMP:20260425T225945
CREATED:20231228T195029Z
LAST-MODIFIED:20231228T204603Z
UID:10000640-1714554000-1714588200@amberwavesdiving.com
SUMMARY:Mon/Wed Swimming Lessons - Call (316) 775-6688 to schedule
DESCRIPTION:Our swimming lesson times are flexible with your schedule. Call us to book a class that fits your availability!
URL:https://amberwavesdiving.com/calendar/swimming-lessons/2024-05-01/
CATEGORIES:Swimming
ATTACH;FMTTYPE=image/jpeg:https://amberwavesdiving.com/wpcms/wp-content/uploads/2022/04/SwimmingLessonsBoy_209199120.jpg
END:VEVENT
BEGIN:VEVENT
DTSTART;TZID=America/Chicago:20240502T090000
DTEND;TZID=America/Chicago:20240502T190000
DTSTAMP:20260425T225945
CREATED:20231228T195405Z
LAST-MODIFIED:20231228T204612Z
UID:10000852-1714640400-1714676400@amberwavesdiving.com
SUMMARY:Tue/Thu Swimming Lessons - Call (316) 775-6688 to schedule
DESCRIPTION:Our swimming lesson times are flexible with your schedule. Call us to book a class that fits your availability!
URL:https://amberwavesdiving.com/calendar/swimming-lessons-call-316-775-6688-to-schedule/2024-05-02/
CATEGORIES:Swimming
ATTACH;FMTTYPE=image/jpeg:https://amberwavesdiving.com/wpcms/wp-content/uploads/2022/04/SwimmingLessonsBoy_209199120.jpg
END:VEVENT
BEGIN:VEVENT
DTSTART;TZID=America/Chicago:20240504T120000
DTEND;TZID=America/Chicago:20240504T150000
DTSTAMP:20260425T225945
CREATED:20231228T161102Z
LAST-MODIFIED:20241203T164714Z
UID:10000488-1714824000-1714834800@amberwavesdiving.com
SUMMARY:Discover Scuba - Scuba Reviews - or Fun Dive
DESCRIPTION:
URL:https://amberwavesdiving.com/calendar/discover-scuba-scuba-reviews-or-fun-dive/2024-05-04/
CATEGORIES:Discover Scuba,Scuba Classes,Swimming
ATTACH;FMTTYPE=image/jpeg:https://amberwavesdiving.com/wpcms/wp-content/uploads/2022/03/273182060_3065833863679261_8560517756132100201_n.jpg
END:VEVENT
BEGIN:VEVENT
DTSTART;TZID=America/Chicago:20240505T140000
DTEND;TZID=America/Chicago:20240505T160000
DTSTAMP:20260425T225945
CREATED:20231228T155034Z
LAST-MODIFIED:20241203T165217Z
UID:10000414-1714917600-1714924800@amberwavesdiving.com
SUMMARY:Open Pool Dive
DESCRIPTION:
URL:https://amberwavesdiving.com/calendar/open-pool-dive/2024-05-05/
CATEGORIES:Swimming
ATTACH;FMTTYPE=image/jpeg:https://amberwavesdiving.com/wpcms/wp-content/uploads/2022/04/SwimmingKids_34026385.jpg
END:VEVENT
BEGIN:VEVENT
DTSTART;TZID=America/Chicago:20240506T090000
DTEND;TZID=America/Chicago:20240506T183000
DTSTAMP:20260425T225945
CREATED:20231228T195029Z
LAST-MODIFIED:20231228T204603Z
UID:10000641-1714986000-1715020200@amberwavesdiving.com
SUMMARY:Mon/Wed Swimming Lessons - Call (316) 775-6688 to schedule
DESCRIPTION:Our swimming lesson times are flexible with your schedule. Call us to book a class that fits your availability!
URL:https://amberwavesdiving.com/calendar/swimming-lessons/2024-05-06/
CATEGORIES:Swimming
ATTACH;FMTTYPE=image/jpeg:https://amberwavesdiving.com/wpcms/wp-content/uploads/2022/04/SwimmingLessonsBoy_209199120.jpg
END:VEVENT
BEGIN:VEVENT
DTSTART;TZID=America/Chicago:20240507T090000
DTEND;TZID=America/Chicago:20240507T190000
DTSTAMP:20260425T225945
CREATED:20231228T195405Z
LAST-MODIFIED:20231228T204612Z
UID:10000853-1715072400-1715108400@amberwavesdiving.com
SUMMARY:Tue/Thu Swimming Lessons - Call (316) 775-6688 to schedule
DESCRIPTION:Our swimming lesson times are flexible with your schedule. Call us to book a class that fits your availability!
URL:https://amberwavesdiving.com/calendar/swimming-lessons-call-316-775-6688-to-schedule/2024-05-07/
CATEGORIES:Swimming
ATTACH;FMTTYPE=image/jpeg:https://amberwavesdiving.com/wpcms/wp-content/uploads/2022/04/SwimmingLessonsBoy_209199120.jpg
END:VEVENT
BEGIN:VEVENT
DTSTART;TZID=America/Chicago:20240508T090000
DTEND;TZID=America/Chicago:20240508T183000
DTSTAMP:20260425T225945
CREATED:20231228T195029Z
LAST-MODIFIED:20231228T204603Z
UID:10000642-1715158800-1715193000@amberwavesdiving.com
SUMMARY:Mon/Wed Swimming Lessons - Call (316) 775-6688 to schedule
DESCRIPTION:Our swimming lesson times are flexible with your schedule. Call us to book a class that fits your availability!
URL:https://amberwavesdiving.com/calendar/swimming-lessons/2024-05-08/
CATEGORIES:Swimming
ATTACH;FMTTYPE=image/jpeg:https://amberwavesdiving.com/wpcms/wp-content/uploads/2022/04/SwimmingLessonsBoy_209199120.jpg
END:VEVENT
BEGIN:VEVENT
DTSTART;TZID=America/Chicago:20240509T090000
DTEND;TZID=America/Chicago:20240509T190000
DTSTAMP:20260425T225945
CREATED:20231228T195405Z
LAST-MODIFIED:20231228T204612Z
UID:10000854-1715245200-1715281200@amberwavesdiving.com
SUMMARY:Tue/Thu Swimming Lessons - Call (316) 775-6688 to schedule
DESCRIPTION:Our swimming lesson times are flexible with your schedule. Call us to book a class that fits your availability!
URL:https://amberwavesdiving.com/calendar/swimming-lessons-call-316-775-6688-to-schedule/2024-05-09/
CATEGORIES:Swimming
ATTACH;FMTTYPE=image/jpeg:https://amberwavesdiving.com/wpcms/wp-content/uploads/2022/04/SwimmingLessonsBoy_209199120.jpg
END:VEVENT
BEGIN:VEVENT
DTSTART;TZID=America/Chicago:20240513T090000
DTEND;TZID=America/Chicago:20240513T183000
DTSTAMP:20260425T225945
CREATED:20231228T195029Z
LAST-MODIFIED:20231228T204603Z
UID:10000643-1715590800-1715625000@amberwavesdiving.com
SUMMARY:Mon/Wed Swimming Lessons - Call (316) 775-6688 to schedule
DESCRIPTION:Our swimming lesson times are flexible with your schedule. Call us to book a class that fits your availability!
URL:https://amberwavesdiving.com/calendar/swimming-lessons/2024-05-13/
CATEGORIES:Swimming
ATTACH;FMTTYPE=image/jpeg:https://amberwavesdiving.com/wpcms/wp-content/uploads/2022/04/SwimmingLessonsBoy_209199120.jpg
END:VEVENT
BEGIN:VEVENT
DTSTART;TZID=America/Chicago:20240514T090000
DTEND;TZID=America/Chicago:20240514T190000
DTSTAMP:20260425T225945
CREATED:20231228T195405Z
LAST-MODIFIED:20231228T204612Z
UID:10000855-1715677200-1715713200@amberwavesdiving.com
SUMMARY:Tue/Thu Swimming Lessons - Call (316) 775-6688 to schedule
DESCRIPTION:Our swimming lesson times are flexible with your schedule. Call us to book a class that fits your availability!
URL:https://amberwavesdiving.com/calendar/swimming-lessons-call-316-775-6688-to-schedule/2024-05-14/
CATEGORIES:Swimming
ATTACH;FMTTYPE=image/jpeg:https://amberwavesdiving.com/wpcms/wp-content/uploads/2022/04/SwimmingLessonsBoy_209199120.jpg
END:VEVENT
BEGIN:VEVENT
DTSTART;TZID=America/Chicago:20240515T090000
DTEND;TZID=America/Chicago:20240515T183000
DTSTAMP:20260425T225945
CREATED:20231228T195029Z
LAST-MODIFIED:20231228T204603Z
UID:10000644-1715763600-1715797800@amberwavesdiving.com
SUMMARY:Mon/Wed Swimming Lessons - Call (316) 775-6688 to schedule
DESCRIPTION:Our swimming lesson times are flexible with your schedule. Call us to book a class that fits your availability!
URL:https://amberwavesdiving.com/calendar/swimming-lessons/2024-05-15/
CATEGORIES:Swimming
ATTACH;FMTTYPE=image/jpeg:https://amberwavesdiving.com/wpcms/wp-content/uploads/2022/04/SwimmingLessonsBoy_209199120.jpg
END:VEVENT
BEGIN:VEVENT
DTSTART;TZID=America/Chicago:20240516T090000
DTEND;TZID=America/Chicago:20240516T190000
DTSTAMP:20260425T225945
CREATED:20231228T195405Z
LAST-MODIFIED:20231228T204612Z
UID:10000856-1715850000-1715886000@amberwavesdiving.com
SUMMARY:Tue/Thu Swimming Lessons - Call (316) 775-6688 to schedule
DESCRIPTION:Our swimming lesson times are flexible with your schedule. Call us to book a class that fits your availability!
URL:https://amberwavesdiving.com/calendar/swimming-lessons-call-316-775-6688-to-schedule/2024-05-16/
CATEGORIES:Swimming
ATTACH;FMTTYPE=image/jpeg:https://amberwavesdiving.com/wpcms/wp-content/uploads/2022/04/SwimmingLessonsBoy_209199120.jpg
END:VEVENT
BEGIN:VEVENT
DTSTART;TZID=America/Chicago:20240518T120000
DTEND;TZID=America/Chicago:20240518T150000
DTSTAMP:20260425T225945
CREATED:20231228T161102Z
LAST-MODIFIED:20241203T164714Z
UID:10000489-1716033600-1716044400@amberwavesdiving.com
SUMMARY:Discover Scuba - Scuba Reviews - or Fun Dive
DESCRIPTION:
URL:https://amberwavesdiving.com/calendar/discover-scuba-scuba-reviews-or-fun-dive/2024-05-18/
CATEGORIES:Discover Scuba,Scuba Classes,Swimming
ATTACH;FMTTYPE=image/jpeg:https://amberwavesdiving.com/wpcms/wp-content/uploads/2022/03/273182060_3065833863679261_8560517756132100201_n.jpg
END:VEVENT
BEGIN:VEVENT
DTSTART;TZID=America/Chicago:20240519T140000
DTEND;TZID=America/Chicago:20240519T160000
DTSTAMP:20260425T225945
CREATED:20231228T155034Z
LAST-MODIFIED:20241203T165217Z
UID:10000416-1716127200-1716134400@amberwavesdiving.com
SUMMARY:Open Pool Dive
DESCRIPTION:
URL:https://amberwavesdiving.com/calendar/open-pool-dive/2024-05-19/
CATEGORIES:Swimming
ATTACH;FMTTYPE=image/jpeg:https://amberwavesdiving.com/wpcms/wp-content/uploads/2022/04/SwimmingKids_34026385.jpg
END:VEVENT
BEGIN:VEVENT
DTSTART;TZID=America/Chicago:20240520T090000
DTEND;TZID=America/Chicago:20240520T183000
DTSTAMP:20260425T225945
CREATED:20231228T195029Z
LAST-MODIFIED:20231228T204603Z
UID:10000645-1716195600-1716229800@amberwavesdiving.com
SUMMARY:Mon/Wed Swimming Lessons - Call (316) 775-6688 to schedule
DESCRIPTION:Our swimming lesson times are flexible with your schedule. Call us to book a class that fits your availability!
URL:https://amberwavesdiving.com/calendar/swimming-lessons/2024-05-20/
CATEGORIES:Swimming
ATTACH;FMTTYPE=image/jpeg:https://amberwavesdiving.com/wpcms/wp-content/uploads/2022/04/SwimmingLessonsBoy_209199120.jpg
END:VEVENT
BEGIN:VEVENT
DTSTART;TZID=America/Chicago:20240521T090000
DTEND;TZID=America/Chicago:20240521T190000
DTSTAMP:20260425T225945
CREATED:20231228T195405Z
LAST-MODIFIED:20231228T204612Z
UID:10000857-1716282000-1716318000@amberwavesdiving.com
SUMMARY:Tue/Thu Swimming Lessons - Call (316) 775-6688 to schedule
DESCRIPTION:Our swimming lesson times are flexible with your schedule. Call us to book a class that fits your availability!
URL:https://amberwavesdiving.com/calendar/swimming-lessons-call-316-775-6688-to-schedule/2024-05-21/
CATEGORIES:Swimming
ATTACH;FMTTYPE=image/jpeg:https://amberwavesdiving.com/wpcms/wp-content/uploads/2022/04/SwimmingLessonsBoy_209199120.jpg
END:VEVENT
BEGIN:VEVENT
DTSTART;TZID=America/Chicago:20240522T090000
DTEND;TZID=America/Chicago:20240522T183000
DTSTAMP:20260425T225945
CREATED:20231228T195029Z
LAST-MODIFIED:20231228T204603Z
UID:10000646-1716368400-1716402600@amberwavesdiving.com
SUMMARY:Mon/Wed Swimming Lessons - Call (316) 775-6688 to schedule
DESCRIPTION:Our swimming lesson times are flexible with your schedule. Call us to book a class that fits your availability!
URL:https://amberwavesdiving.com/calendar/swimming-lessons/2024-05-22/
CATEGORIES:Swimming
ATTACH;FMTTYPE=image/jpeg:https://amberwavesdiving.com/wpcms/wp-content/uploads/2022/04/SwimmingLessonsBoy_209199120.jpg
END:VEVENT
BEGIN:VEVENT
DTSTART;TZID=America/Chicago:20240523T090000
DTEND;TZID=America/Chicago:20240523T190000
DTSTAMP:20260425T225945
CREATED:20231228T195405Z
LAST-MODIFIED:20231228T204612Z
UID:10000858-1716454800-1716490800@amberwavesdiving.com
SUMMARY:Tue/Thu Swimming Lessons - Call (316) 775-6688 to schedule
DESCRIPTION:Our swimming lesson times are flexible with your schedule. Call us to book a class that fits your availability!
URL:https://amberwavesdiving.com/calendar/swimming-lessons-call-316-775-6688-to-schedule/2024-05-23/
CATEGORIES:Swimming
ATTACH;FMTTYPE=image/jpeg:https://amberwavesdiving.com/wpcms/wp-content/uploads/2022/04/SwimmingLessonsBoy_209199120.jpg
END:VEVENT
BEGIN:VEVENT
DTSTART;TZID=America/Chicago:20240527T090000
DTEND;TZID=America/Chicago:20240527T183000
DTSTAMP:20260425T225945
CREATED:20231228T195029Z
LAST-MODIFIED:20231228T204603Z
UID:10000647-1716800400-1716834600@amberwavesdiving.com
SUMMARY:Mon/Wed Swimming Lessons - Call (316) 775-6688 to schedule
DESCRIPTION:Our swimming lesson times are flexible with your schedule. Call us to book a class that fits your availability!
URL:https://amberwavesdiving.com/calendar/swimming-lessons/2024-05-27/
CATEGORIES:Swimming
ATTACH;FMTTYPE=image/jpeg:https://amberwavesdiving.com/wpcms/wp-content/uploads/2022/04/SwimmingLessonsBoy_209199120.jpg
END:VEVENT
BEGIN:VEVENT
DTSTART;TZID=America/Chicago:20240528T090000
DTEND;TZID=America/Chicago:20240528T190000
DTSTAMP:20260425T225945
CREATED:20231228T195405Z
LAST-MODIFIED:20231228T204612Z
UID:10000859-1716886800-1716922800@amberwavesdiving.com
SUMMARY:Tue/Thu Swimming Lessons - Call (316) 775-6688 to schedule
DESCRIPTION:Our swimming lesson times are flexible with your schedule. Call us to book a class that fits your availability!
URL:https://amberwavesdiving.com/calendar/swimming-lessons-call-316-775-6688-to-schedule/2024-05-28/
CATEGORIES:Swimming
ATTACH;FMTTYPE=image/jpeg:https://amberwavesdiving.com/wpcms/wp-content/uploads/2022/04/SwimmingLessonsBoy_209199120.jpg
END:VEVENT
BEGIN:VEVENT
DTSTART;TZID=America/Chicago:20240529T090000
DTEND;TZID=America/Chicago:20240529T183000
DTSTAMP:20260425T225945
CREATED:20231228T195029Z
LAST-MODIFIED:20231228T204603Z
UID:10000648-1716973200-1717007400@amberwavesdiving.com
SUMMARY:Mon/Wed Swimming Lessons - Call (316) 775-6688 to schedule
DESCRIPTION:Our swimming lesson times are flexible with your schedule. Call us to book a class that fits your availability!
URL:https://amberwavesdiving.com/calendar/swimming-lessons/2024-05-29/
CATEGORIES:Swimming
ATTACH;FMTTYPE=image/jpeg:https://amberwavesdiving.com/wpcms/wp-content/uploads/2022/04/SwimmingLessonsBoy_209199120.jpg
END:VEVENT
BEGIN:VEVENT
DTSTART;TZID=America/Chicago:20240530T090000
DTEND;TZID=America/Chicago:20240530T190000
DTSTAMP:20260425T225945
CREATED:20231228T195405Z
LAST-MODIFIED:20231228T204612Z
UID:10000860-1717059600-1717095600@amberwavesdiving.com
SUMMARY:Tue/Thu Swimming Lessons - Call (316) 775-6688 to schedule
DESCRIPTION:Our swimming lesson times are flexible with your schedule. Call us to book a class that fits your availability!
URL:https://amberwavesdiving.com/calendar/swimming-lessons-call-316-775-6688-to-schedule/2024-05-30/
CATEGORIES:Swimming
ATTACH;FMTTYPE=image/jpeg:https://amberwavesdiving.com/wpcms/wp-content/uploads/2022/04/SwimmingLessonsBoy_209199120.jpg
END:VEVENT
BEGIN:VEVENT
DTSTART;TZID=America/Chicago:20240601T120000
DTEND;TZID=America/Chicago:20240601T150000
DTSTAMP:20260425T225945
CREATED:20231228T161102Z
LAST-MODIFIED:20241203T164714Z
UID:10000490-1717243200-1717254000@amberwavesdiving.com
SUMMARY:Discover Scuba - Scuba Reviews - or Fun Dive
DESCRIPTION:
URL:https://amberwavesdiving.com/calendar/discover-scuba-scuba-reviews-or-fun-dive/2024-06-01/
CATEGORIES:Discover Scuba,Scuba Classes,Swimming
ATTACH;FMTTYPE=image/jpeg:https://amberwavesdiving.com/wpcms/wp-content/uploads/2022/03/273182060_3065833863679261_8560517756132100201_n.jpg
END:VEVENT
END:VCALENDAR